BEGIN:VCALENDAR
PRODID:-//Pixl8//Eventfolio//EN
VERSION:2.0
X-WR-TIMEZONE:Europe/Dublin
CALSCALE:GREGORIAN
METHOD:PUBLISH
CLASS:PUBLIC
BEGIN:VTIMEZONE
TZID:Europe/Dublin
LAST-MODIFIED:20260306T231828Z
TZURL:https://www.tzurl.org/zoneinfo-outlook/Europe/Dublin
X-LIC-LOCATION:Europe/Dublin
BEGIN:DAYLIGHT
TZNAME:IST
TZOFFSETFROM:+0000
TZOFFSETTO:+0100
DTSTART:19700329T010000
RRULE:FREQ=YEARLY;BYMONTH=3;BYDAY=-1SU
END:DAYLIGHT
BEGIN:STANDARD
TZNAME:GMT
TZOFFSETFROM:+0100
TZOFFSETTO:+0000
DTSTART:19701025T020000
RRULE:FREQ=YEARLY;BYMONTH=10;BYDAY=-1SU
END:STANDARD
END:VTIMEZONE
BEGIN:VEVENT
DTSTART;TZID=Europe/Dublin:20240910T160000
DTEND;TZID=Europe/Dublin:20240910T180000
DTSTAMP:20260423T110857Z
UID:{62E39BF6-0DDE-4ADD-ADB5F213B029ED75.45545}
LOCATION:Online
SUMMARY:Professional Diploma in Analytics & AI - Autumn 2024
DESCRIPTION:Event details: https://analyticsinstitute.org/event-calendar/professional-diploma-in-analytics-ai-autumn-2024.html
PRIORITY:1
END:VEVENT
BEGIN:VEVENT
DTSTART;TZID=Europe/Dublin:20240917T160000
DTEND;TZID=Europe/Dublin:20240917T180000
DTSTAMP:20260423T110857Z
UID:{62E39BF6-0DDE-4ADD-ADB5F213B029ED75.45552}
LOCATION:Online
SUMMARY:Professional Diploma in Analytics & AI - Autumn 2024
DESCRIPTION:Event details: https://analyticsinstitute.org/event-calendar/professional-diploma-in-analytics-ai-autumn-2024.html
PRIORITY:1
END:VEVENT
BEGIN:VEVENT
DTSTART;TZID=Europe/Dublin:20240924T160000
DTEND;TZID=Europe/Dublin:20240924T180000
DTSTAMP:20260423T110857Z
UID:{62E39BF6-0DDE-4ADD-ADB5F213B029ED75.45559}
LOCATION:Online
SUMMARY:Professional Diploma in Analytics & AI - Autumn 2024
DESCRIPTION:Event details: https://analyticsinstitute.org/event-calendar/professional-diploma-in-analytics-ai-autumn-2024.html
PRIORITY:1
END:VEVENT
BEGIN:VEVENT
DTSTART;TZID=Europe/Dublin:20241001T160000
DTEND;TZID=Europe/Dublin:20241001T180000
DTSTAMP:20260423T110857Z
UID:{62E39BF6-0DDE-4ADD-ADB5F213B029ED75.45566}
LOCATION:Online
SUMMARY:Professional Diploma in Analytics & AI - Autumn 2024
DESCRIPTION:Event details: https://analyticsinstitute.org/event-calendar/professional-diploma-in-analytics-ai-autumn-2024.html
PRIORITY:1
END:VEVENT
BEGIN:VEVENT
DTSTART;TZID=Europe/Dublin:20241008T160000
DTEND;TZID=Europe/Dublin:20241008T180000
DTSTAMP:20260423T110857Z
UID:{62E39BF6-0DDE-4ADD-ADB5F213B029ED75.45573}
LOCATION:Online
SUMMARY:Professional Diploma in Analytics & AI - Autumn 2024
DESCRIPTION:Event details: https://analyticsinstitute.org/event-calendar/professional-diploma-in-analytics-ai-autumn-2024.html
PRIORITY:1
END:VEVENT
BEGIN:VEVENT
DTSTART;TZID=Europe/Dublin:20241015T160000
DTEND;TZID=Europe/Dublin:20241015T180000
DTSTAMP:20260423T110857Z
UID:{62E39BF6-0DDE-4ADD-ADB5F213B029ED75.45580}
LOCATION:Online
SUMMARY:Professional Diploma in Analytics & AI - Autumn 2024
DESCRIPTION:Event details: https://analyticsinstitute.org/event-calendar/professional-diploma-in-analytics-ai-autumn-2024.html
PRIORITY:1
END:VEVENT
BEGIN:VEVENT
DTSTART;TZID=Europe/Dublin:20241022T160000
DTEND;TZID=Europe/Dublin:20241022T180000
DTSTAMP:20260423T110857Z
UID:{62E39BF6-0DDE-4ADD-ADB5F213B029ED75.45587}
LOCATION:Online
SUMMARY:Professional Diploma in Analytics & AI - Autumn 2024
DESCRIPTION:Event details: https://analyticsinstitute.org/event-calendar/professional-diploma-in-analytics-ai-autumn-2024.html
PRIORITY:1
END:VEVENT
BEGIN:VEVENT
DTSTART;TZID=Europe/Dublin:20241029T160000
DTEND;TZID=Europe/Dublin:20241029T180000
DTSTAMP:20260423T110857Z
UID:{62E39BF6-0DDE-4ADD-ADB5F213B029ED75.45594}
LOCATION:Online
SUMMARY:Professional Diploma in Analytics & AI - Autumn 2024
DESCRIPTION:Event details: https://analyticsinstitute.org/event-calendar/professional-diploma-in-analytics-ai-autumn-2024.html
PRIORITY:1
END:VEVENT
BEGIN:VEVENT
DTSTART;TZID=Europe/Dublin:20241105T160000
DTEND;TZID=Europe/Dublin:20241105T180000
DTSTAMP:20260423T110857Z
UID:{62E39BF6-0DDE-4ADD-ADB5F213B029ED75.45601}
LOCATION:Online
SUMMARY:Professional Diploma in Analytics & AI - Autumn 2024
DESCRIPTION:Event details: https://analyticsinstitute.org/event-calendar/professional-diploma-in-analytics-ai-autumn-2024.html
PRIORITY:1
END:VEVENT
BEGIN:VEVENT
DTSTART;TZID=Europe/Dublin:20241112T160000
DTEND;TZID=Europe/Dublin:20241112T180000
DTSTAMP:20260423T110857Z
UID:{62E39BF6-0DDE-4ADD-ADB5F213B029ED75.45608}
LOCATION:Online
SUMMARY:Professional Diploma in Analytics & AI - Autumn 2024
DESCRIPTION:Event details: https://analyticsinstitute.org/event-calendar/professional-diploma-in-analytics-ai-autumn-2024.html
PRIORITY:1
END:VEVENT
BEGIN:VEVENT
DTSTART;TZID=Europe/Dublin:20241119T160000
DTEND;TZID=Europe/Dublin:20241119T180000
DTSTAMP:20260423T110857Z
UID:{62E39BF6-0DDE-4ADD-ADB5F213B029ED75.45615}
LOCATION:Online
SUMMARY:Professional Diploma in Analytics & AI - Autumn 2024
DESCRIPTION:Event details: https://analyticsinstitute.org/event-calendar/professional-diploma-in-analytics-ai-autumn-2024.html
PRIORITY:1
END:VEVENT
END:VCALENDAR